BEGIN:VCALENDAR
VERSION:2.0
PRODID:-//Atlantic City Country Club - ECPv6.15.20//NONSGML v1.0//EN
CALSCALE:GREGORIAN
METHOD:PUBLISH
X-ORIGINAL-URL:https://accountryclub.com
X-WR-CALDESC:Events for Atlantic City Country Club
REFRESH-INTERVAL;VALUE=DURATION:PT1H
X-Robots-Tag:noindex
X-PUBLISHED-TTL:PT1H
BEGIN:VTIMEZONE
TZID:UTC
BEGIN:STANDARD
TZOFFSETFROM:+0000
TZOFFSETTO:+0000
TZNAME:UTC
DTSTART:20230101T000000
END:STANDARD
END:VTIMEZONE
BEGIN:VEVENT
DTSTART;TZID=UTC:20240824T173000
DTEND;TZID=UTC:20240824T203000
DTSTAMP:20260422T160045
CREATED:20240805T175128Z
LAST-MODIFIED:20240805T175128Z
UID:10000011-1724520600-1724531400@accountryclub.com
SUMMARY:Shaun LaBoy
DESCRIPTION:Shaun LaBoy musician and entertainer
URL:https://accountryclub.com/event/shaun-laboy-2/
ATTACH;FMTTYPE=image/png:https://accountryclub.com/wp-content/uploads/2024/08/Shaun-LaBoy_1600x900.png
END:VEVENT
END:VCALENDAR