BEGIN:VCALENDAR
VERSION:2.0
PRODID:-//Atlantic City Country Club - ECPv6.15.20//NONSGML v1.0//EN
CALSCALE:GREGORIAN
METHOD:PUBLISH
X-WR-CALNAME:Atlantic City Country Club
X-ORIGINAL-URL:https://accountryclub.com
X-WR-CALDESC:Events for Atlantic City Country Club
REFRESH-INTERVAL;VALUE=DURATION:PT1H
X-Robots-Tag:noindex
X-PUBLISHED-TTL:PT1H
BEGIN:VTIMEZONE
TZID:UTC
BEGIN:STANDARD
TZOFFSETFROM:+0000
TZOFFSETTO:+0000
TZNAME:UTC
DTSTART:20230101T000000
END:STANDARD
END:VTIMEZONE
BEGIN:VEVENT
DTSTART;TZID=UTC:20240827T170000
DTEND;TZID=UTC:20240827T170000
DTSTAMP:20260422T111944
CREATED:20240821T193106Z
LAST-MODIFIED:20240821T193106Z
UID:10000029-1724778000-1724778000@accountryclub.com
SUMMARY:Members' Night
DESCRIPTION:Open To All Golf + Social Members
URL:https://accountryclub.com/event/members-night/
END:VEVENT
BEGIN:VEVENT
DTSTART;TZID=UTC:20240827T180000
DTEND;TZID=UTC:20240827T210000
DTSTAMP:20260422T111944
CREATED:20240821T190337Z
LAST-MODIFIED:20240821T192406Z
UID:10000028-1724781600-1724792400@accountryclub.com
SUMMARY:Luau Party Featuring Paradise Island Luau Show
DESCRIPTION:BRING YOUR FRIENDS AND PARTY THE NIGHT AWAY WITH US LUAU STYLE! \nEnjoy live music\, backyard games\, Hawaiian stvle food\, beer\, wine\, and liquor samplings from several local vendors. \nNOT A SOCIAL MEMBER? WELL\, YOU COULD BE!\nYou will receive a Social Membership for the rest of 2024 included in your ticket price for attending our Paradise Island Luau Show. That just means you have an excuse to visit us more often now that\nyou’re a Social Member! \nSPACE IS LIMITED. RESERVE YOUR SPOT NOW!\nGOLF MEMBERS SIGN-UP ON THE FORETEES APP \nBUY TICKETS HERE
URL:https://accountryclub.com/event/luau-party-featuring-paradise-island-luau-show/
ATTACH;FMTTYPE=image/jpeg:https://accountryclub.com/wp-content/uploads/2024/08/ACC0847-Social-Membership-End-of-Summber-Luau-Party_SM_1600x900.jpg
END:VEVENT
END:VCALENDAR