BEGIN:VCALENDAR
VERSION:2.0
PRODID:-//Atlantic City Country Club - ECPv6.15.20//NONSGML v1.0//EN
CALSCALE:GREGORIAN
METHOD:PUBLISH
X-ORIGINAL-URL:https://accountryclub.com
X-WR-CALDESC:Events for Atlantic City Country Club
REFRESH-INTERVAL;VALUE=DURATION:PT1H
X-Robots-Tag:noindex
X-PUBLISHED-TTL:PT1H
BEGIN:VTIMEZONE
TZID:UTC
BEGIN:STANDARD
TZOFFSETFROM:+0000
TZOFFSETTO:+0000
TZNAME:UTC
DTSTART:20230101T000000
END:STANDARD
END:VTIMEZONE
BEGIN:VEVENT
DTSTART;TZID=UTC:20240828T173000
DTEND;TZID=UTC:20240828T203000
DTSTAMP:20260422T095455
CREATED:20240805T175202Z
LAST-MODIFIED:20240805T175202Z
UID:10000013-1724866200-1724877000@accountryclub.com
SUMMARY:Chris Yoder
DESCRIPTION:South Jersey artist\, Chris Yoder\, brings his rocking acoustic style act into your place at your pace. THE CHRIS YODER BAND gives you the show that you want!\nWhether it’s classic or modern country and rock\, all-time reggae favorites\, chilled out yacht rock\, or the dance tunes you need to shake that booty\, the CYB gives you an eclectic mix of your favorite cover songs in an acoustic style unlike ANY other band around today!
URL:https://accountryclub.com/event/chris-yoder-2/
ATTACH;FMTTYPE=image/png:https://accountryclub.com/wp-content/uploads/2024/08/Chris-Yoder_1600x900.png
END:VEVENT
END:VCALENDAR