BEGIN:VCALENDAR
VERSION:2.0
PRODID:-//Atlantic City Country Club - ECPv6.15.20//NONSGML v1.0//EN
CALSCALE:GREGORIAN
METHOD:PUBLISH
X-WR-CALNAME:Atlantic City Country Club
X-ORIGINAL-URL:https://accountryclub.com
X-WR-CALDESC:Events for Atlantic City Country Club
REFRESH-INTERVAL;VALUE=DURATION:PT1H
X-Robots-Tag:noindex
X-PUBLISHED-TTL:PT1H
BEGIN:VTIMEZONE
TZID:UTC
BEGIN:STANDARD
TZOFFSETFROM:+0000
TZOFFSETTO:+0000
TZNAME:UTC
DTSTART:20230101T000000
END:STANDARD
END:VTIMEZONE
BEGIN:VEVENT
DTSTART;TZID=UTC:20240831T173000
DTEND;TZID=UTC:20240831T203000
DTSTAMP:20260422T050459
CREATED:20240805T175226Z
LAST-MODIFIED:20240805T175226Z
UID:10000015-1725125400-1725136200@accountryclub.com
SUMMARY:Ralph Michaels
DESCRIPTION:Ralph Michaels\, singer\, is a performer located by the Jersey Shore. He performs in restaurants\, clubs\, and events within the tristate area.
URL:https://accountryclub.com/event/ralph-michaels-2-2/
ATTACH;FMTTYPE=image/png:https://accountryclub.com/wp-content/uploads/2024/08/Ralph-Michaels_1600x900.png
END:VEVENT
END:VCALENDAR