BEGIN:VCALENDAR
VERSION:2.0
PRODID:-//Atlantic City Country Club - ECPv6.15.20//NONSGML v1.0//EN
CALSCALE:GREGORIAN
METHOD:PUBLISH
X-ORIGINAL-URL:https://accountryclub.com
X-WR-CALDESC:Events for Atlantic City Country Club
REFRESH-INTERVAL;VALUE=DURATION:PT1H
X-Robots-Tag:noindex
X-PUBLISHED-TTL:PT1H
BEGIN:VTIMEZONE
TZID:UTC
BEGIN:STANDARD
TZOFFSETFROM:+0000
TZOFFSETTO:+0000
TZNAME:UTC
DTSTART:20230101T000000
END:STANDARD
END:VTIMEZONE
BEGIN:VEVENT
DTSTART;TZID=UTC:20240925T173000
DTEND;TZID=UTC:20240925T203000
DTSTAMP:20260421T230656
CREATED:20240820T164218Z
LAST-MODIFIED:20240820T164218Z
UID:10000025-1727285400-1727296200@accountryclub.com
SUMMARY:Camille Peruto
DESCRIPTION:Alternative pop vocalist Camille Peruto wears many colors – all bold\, and ever-changing. The NJ-based vocalist didn’t always rest comfortably in an alt-blend\, originally maintaining a sleek mix of folk\, pop\, and rock elements in her releases.
URL:https://accountryclub.com/event/camille-peruto-2-2/
ATTACH;FMTTYPE=image/jpeg:https://accountryclub.com/wp-content/uploads/2024/08/DSC_7048.jpg
END:VEVENT
END:VCALENDAR