BEGIN:VCALENDAR
VERSION:2.0
PRODID:-//Atlantic City Country Club - ECPv6.15.20//NONSGML v1.0//EN
CALSCALE:GREGORIAN
METHOD:PUBLISH
X-ORIGINAL-URL:https://accountryclub.com
X-WR-CALDESC:Events for Atlantic City Country Club
REFRESH-INTERVAL;VALUE=DURATION:PT1H
X-Robots-Tag:noindex
X-PUBLISHED-TTL:PT1H
BEGIN:VTIMEZONE
TZID:UTC
BEGIN:STANDARD
TZOFFSETFROM:+0000
TZOFFSETTO:+0000
TZNAME:UTC
DTSTART:20230101T000000
END:STANDARD
END:VTIMEZONE
BEGIN:VEVENT
DTSTART;TZID=UTC:20241001T180000
DTEND;TZID=UTC:20241001T200000
DTSTAMP:20260420T012222
CREATED:20240925T194047Z
LAST-MODIFIED:20240925T194140Z
UID:10000057-1727805600-1727812800@accountryclub.com
SUMMARY:Trivia Night
DESCRIPTION:Now Featuring Happy Hour 5PM – Closing\nPlus Discounted Wines
URL:https://accountryclub.com/event/trivia-night-2-5-2/
END:VEVENT
END:VCALENDAR