BEGIN:VCALENDAR
VERSION:2.0
PRODID:-//Atlantic City Country Club - ECPv6.15.20//NONSGML v1.0//EN
CALSCALE:GREGORIAN
METHOD:PUBLISH
X-WR-CALNAME:Atlantic City Country Club
X-ORIGINAL-URL:https://accountryclub.com
X-WR-CALDESC:Events for Atlantic City Country Club
REFRESH-INTERVAL;VALUE=DURATION:PT1H
X-Robots-Tag:noindex
X-PUBLISHED-TTL:PT1H
BEGIN:VTIMEZONE
TZID:UTC
BEGIN:STANDARD
TZOFFSETFROM:+0000
TZOFFSETTO:+0000
TZNAME:UTC
DTSTART:20230101T000000
END:STANDARD
END:VTIMEZONE
BEGIN:VEVENT
DTSTART;TZID=UTC:20241004T173000
DTEND;TZID=UTC:20241004T203000
DTSTAMP:20260419T201804
CREATED:20240917T193900Z
LAST-MODIFIED:20240917T193900Z
UID:10000052-1728063000-1728073800@accountryclub.com
SUMMARY:Doug Jennings
DESCRIPTION:Doug Jennings is a vocalist\, saxophone and keyboard performer that plays chart-topping hits from yesterday and today.
URL:https://accountryclub.com/event/doug-jennings-2-2-2-2/
ATTACH;FMTTYPE=image/png:https://accountryclub.com/wp-content/uploads/2024/08/Doug-Jennings_1600x900.png
END:VEVENT
END:VCALENDAR