BEGIN:VCALENDAR
VERSION:2.0
PRODID:-//Atlantic City Country Club - ECPv6.15.20//NONSGML v1.0//EN
CALSCALE:GREGORIAN
METHOD:PUBLISH
X-WR-CALNAME:Atlantic City Country Club
X-ORIGINAL-URL:https://accountryclub.com
X-WR-CALDESC:Events for Atlantic City Country Club
REFRESH-INTERVAL;VALUE=DURATION:PT1H
X-Robots-Tag:noindex
X-PUBLISHED-TTL:PT1H
BEGIN:VTIMEZONE
TZID:UTC
BEGIN:STANDARD
TZOFFSETFROM:+0000
TZOFFSETTO:+0000
TZNAME:UTC
DTSTART:20230101T000000
END:STANDARD
END:VTIMEZONE
BEGIN:VEVENT
DTSTART;TZID=UTC:20241023T120000
DTEND;TZID=UTC:20241023T160000
DTSTAMP:20260421T065058
CREATED:20241011T141954Z
LAST-MODIFIED:20241011T141954Z
UID:10000096-1729684800-1729699200@accountryclub.com
SUMMARY:Taproom is Open for Lunch From 12pm-4pm
DESCRIPTION:
URL:https://accountryclub.com/event/all-you-can-eat-sunday-brunch-2-5-10-2-7-10-3/
END:VEVENT
BEGIN:VEVENT
DTSTART;TZID=UTC:20241023T170000
DTEND;TZID=UTC:20241023T170000
DTSTAMP:20260421T065058
CREATED:20240925T194725Z
LAST-MODIFIED:20240925T194725Z
UID:10000065-1729702800-1729702800@accountryclub.com
SUMMARY:Members' Night
DESCRIPTION:Now Featuring Flight Night\nTequila Flights\, Beer Flights\, Slider Flights\, Oh My!\n5PM – Closing
URL:https://accountryclub.com/event/members-night-5-2-4/
END:VEVENT
BEGIN:VEVENT
DTSTART;TZID=UTC:20241023T170000
DTEND;TZID=UTC:20241023T170000
DTSTAMP:20260421T065058
CREATED:20241011T142817Z
LAST-MODIFIED:20241011T142817Z
UID:10000103-1729702800-1729702800@accountryclub.com
SUMMARY:Taproom is Open for Dinner From 5pm
DESCRIPTION:
URL:https://accountryclub.com/event/all-you-can-eat-sunday-brunch-2-5-10-2-7-10-7-3/
END:VEVENT
BEGIN:VEVENT
DTSTART;TZID=UTC:20241023T170000
DTEND;TZID=UTC:20241023T183000
DTSTAMP:20260421T065058
CREATED:20241011T143236Z
LAST-MODIFIED:20241011T194202Z
UID:10000112-1729702800-1729708200@accountryclub.com
SUMMARY:Happy Hour
DESCRIPTION:
URL:https://accountryclub.com/event/all-you-can-eat-sunday-brunch-2-5-10-2-7-10-8-2-2-3/
END:VEVENT
END:VCALENDAR