BEGIN:VCALENDAR
VERSION:2.0
PRODID:-//Atlantic City Country Club - ECPv6.15.20//NONSGML v1.0//EN
CALSCALE:GREGORIAN
METHOD:PUBLISH
X-ORIGINAL-URL:https://accountryclub.com
X-WR-CALDESC:Events for Atlantic City Country Club
REFRESH-INTERVAL;VALUE=DURATION:PT1H
X-Robots-Tag:noindex
X-PUBLISHED-TTL:PT1H
BEGIN:VTIMEZONE
TZID:UTC
BEGIN:STANDARD
TZOFFSETFROM:+0000
TZOFFSETTO:+0000
TZNAME:UTC
DTSTART:20230101T000000
END:STANDARD
END:VTIMEZONE
BEGIN:VEVENT
DTSTART;TZID=UTC:20241025T120000
DTEND;TZID=UTC:20241025T160000
DTSTAMP:20260421T130622
CREATED:20241011T144429Z
LAST-MODIFIED:20241011T144429Z
UID:10000141-1729857600-1729872000@accountryclub.com
SUMMARY:Taproom is Open for Lunch From 12pm-4pm
DESCRIPTION:
URL:https://accountryclub.com/event/all-you-can-eat-sunday-brunch-2-5-10-2-7-10-8-2-9/
END:VEVENT
BEGIN:VEVENT
DTSTART;TZID=UTC:20241025T170000
DTEND;TZID=UTC:20241025T170000
DTSTAMP:20260421T130622
CREATED:20241011T145455Z
LAST-MODIFIED:20241011T145455Z
UID:10000157-1729875600-1729875600@accountryclub.com
SUMMARY:Taproom is Open for Dinner From 5pm
DESCRIPTION:
URL:https://accountryclub.com/event/all-you-can-eat-sunday-brunch-2-5-10-2-7-10-7-8-8/
END:VEVENT
BEGIN:VEVENT
DTSTART;TZID=UTC:20241025T170000
DTEND;TZID=UTC:20241025T183000
DTSTAMP:20260421T130622
CREATED:20241011T143948Z
LAST-MODIFIED:20241011T194136Z
UID:10000125-1729875600-1729881000@accountryclub.com
SUMMARY:Happy Hour
DESCRIPTION:
URL:https://accountryclub.com/event/all-you-can-eat-sunday-brunch-2-5-10-2-7-10-8-2-2-16/
END:VEVENT
BEGIN:VEVENT
DTSTART;TZID=UTC:20241025T173000
DTEND;TZID=UTC:20241025T203000
DTSTAMP:20260421T130622
CREATED:20240917T193955Z
LAST-MODIFIED:20240917T193955Z
UID:10000055-1729877400-1729888200@accountryclub.com
SUMMARY:Doug Jennings
DESCRIPTION:Doug Jennings is a vocalist\, saxophone and keyboard performer that plays chart-topping hits from yesterday and today.
URL:https://accountryclub.com/event/doug-jennings-2-2-2-2-2-3/
ATTACH;FMTTYPE=image/png:https://accountryclub.com/wp-content/uploads/2024/08/Doug-Jennings_1600x900.png
END:VEVENT
END:VCALENDAR