BEGIN:VCALENDAR
VERSION:2.0
PRODID:-//Atlantic City Country Club - ECPv6.15.20//NONSGML v1.0//EN
CALSCALE:GREGORIAN
METHOD:PUBLISH
X-ORIGINAL-URL:https://accountryclub.com
X-WR-CALDESC:Events for Atlantic City Country Club
REFRESH-INTERVAL;VALUE=DURATION:PT1H
X-Robots-Tag:noindex
X-PUBLISHED-TTL:PT1H
BEGIN:VTIMEZONE
TZID:UTC
BEGIN:STANDARD
TZOFFSETFROM:+0000
TZOFFSETTO:+0000
TZNAME:UTC
DTSTART:20240101T000000
END:STANDARD
END:VTIMEZONE
BEGIN:VEVENT
DTSTART;TZID=UTC:20250321T120000
DTEND;TZID=UTC:20250321T170000
DTSTAMP:20260420T120554
CREATED:20250303T160124Z
LAST-MODIFIED:20250303T160124Z
UID:10000381-1742558400-1742576400@accountryclub.com
SUMMARY:Taproom is Open for Lunch From 12pm-4pm & Dinner From 5pm
DESCRIPTION:
URL:https://accountryclub.com/event/taproom-is-open-for-lunch-from-12pm-4pm-dinner-from-5pm-23-8-10/
END:VEVENT
BEGIN:VEVENT
DTSTART;TZID=UTC:20250321T170000
DTEND;TZID=UTC:20250321T183000
DTSTAMP:20260420T120554
CREATED:20250303T155937Z
LAST-MODIFIED:20250303T155937Z
UID:10000371-1742576400-1742581800@accountryclub.com
SUMMARY:Happy Hour
DESCRIPTION:
URL:https://accountryclub.com/event/happy-hour-8-5-4/
END:VEVENT
BEGIN:VEVENT
DTSTART;TZID=UTC:20250321T180000
DTEND;TZID=UTC:20250321T180000
DTSTAMP:20260420T120554
CREATED:20250221T151436Z
LAST-MODIFIED:20250304T175218Z
UID:10000355-1742580000-1742580000@accountryclub.com
SUMMARY:Double Nickel Beer Dinner
DESCRIPTION:Join us for a Flavorful Evening at Atlantic City Country Club’s with Chef Daniel and Double Nickel Brewing Beer Dinner!\nIndulge in an unforgettable night of expertly paired craft beers and culinary delights at our exclusive Beer Dinner featuring Double Nickel Brewing Company. Discover the perfect harmony of flavors as each course is paired with a brew from Double Nickel’s celebrated lineup.\n\nEnjoy a duet of short rib and pulled pork tacos with Vienna Lager and Weekend Warrior IPA\, followed by pan-seared scallops with Sun Surfer IPA. Dive into a chargrilled dry-aged NY strip paired with Long Weekend IPA\, and finish with a decadent IPA brownie a la mode\, rounded out with a bold IPA. A perfect blend of craft brews and culinary creations!\n\nSpaces are limited\, so be sure to reserve your seat for this exclusive event. Whether you’re a craft beer enthusiast or a foodie looking for a unique experience\, this dinner promises a memorable evening of culinary excellence and exceptional brews. Don’t miss out—book now!\n\nFIRST COURSE\nSHORT RIB & PULLED PORK TACO DUET | Paired with: Vienna Lager & Weekend Warrior\n\nSECOND COURSE\nPAN SEARED SCALLOPS | Paired with: Sun Surfer \nTHIRD COURSE\nCHARGRILLED DRY AGED NY STRIP | Paired with: Long Weekend \nFOURTH COURSE\nIPA BROWNIE A LA MODE | Paired with: IPA \nGOLF & SOCIAL MEMBERS WILL RECEIVE A DISCOUNT. PLEASE BOOK BY CALLING THE TAPROOM. \nCall 609-236-4400 to Reserve Your Spot \nCLICK HERE TO BOOK THROUGH OPENTABLE
URL:https://accountryclub.com/event/double-nickel-beer-dinner/
ATTACH;FMTTYPE=image/jpeg:https://accountryclub.com/wp-content/uploads/2025/02/ACC0906-Double-Nickel-Beer-Dinner-_-March-21st_Web_1600x900.jpg
END:VEVENT
END:VCALENDAR