BEGIN:VCALENDAR
VERSION:2.0
PRODID:-//Atlantic City Country Club - ECPv6.15.20//NONSGML v1.0//EN
CALSCALE:GREGORIAN
METHOD:PUBLISH
X-WR-CALNAME:Atlantic City Country Club
X-ORIGINAL-URL:https://accountryclub.com
X-WR-CALDESC:Events for Atlantic City Country Club
REFRESH-INTERVAL;VALUE=DURATION:PT1H
X-Robots-Tag:noindex
X-PUBLISHED-TTL:PT1H
BEGIN:VTIMEZONE
TZID:UTC
BEGIN:STANDARD
TZOFFSETFROM:+0000
TZOFFSETTO:+0000
TZNAME:UTC
DTSTART:20240101T000000
END:STANDARD
END:VTIMEZONE
BEGIN:VEVENT
DTSTART;VALUE=DATE:20250505
DTEND;VALUE=DATE:20250506
DTSTAMP:20260420T104457
CREATED:20250425T161155Z
LAST-MODIFIED:20250425T161155Z
UID:10000476-1746403200-1746489599@accountryclub.com
SUMMARY:Taproom is Closed
DESCRIPTION:
URL:https://accountryclub.com/event/taproom-is-closed-10-11-10-2/
END:VEVENT
BEGIN:VEVENT
DTSTART;TZID=UTC:20250505T180000
DTEND;TZID=UTC:20250505T180000
DTSTAMP:20260420T104457
CREATED:20250327T201654Z
LAST-MODIFIED:20250401T161526Z
UID:10000446-1746468000-1746468000@accountryclub.com
SUMMARY:Tequila Ocho Tasting Dinner
DESCRIPTION:Tequila Ocho Tasting Dinner\nMonday\, May 5th | 6PM\nJoin Atlantic City Country Club for a five-course feast expertly paired with the world-renowned Tequila Ocho. We will have a tequila expert on hand to guide you through the experience and share insights about the product. Executive Chef Daniel and his team will take you through the rich and diverse flavors of Mexico\, expertly crafting each dish to showcase the vibrant culinary traditions of the region. This is a night to savor\, learn\, and indulge in the perfect pairing of tequila and cuisine. \nFirst Course \nChicken Tinga ‘Gordita’\nshallot + nopales\, salsa macha \nSecond Course\n Seafood Salad ‘A La Parilla’\npetite herbs + lettuces\, aguachile verde \nThird Course \nPiquillo Chile Relleno ‘En Nogada’\npomegranate pearls\, walnut sauce \nFourth Course \nDry Aged Kurobuta Pork ‘Mole’\ncharred corn salsa ‘criolla’\, mole poblano \nFifth Course \nFlan ‘Tres Leches’\ncanela whipped cream\, caramel sauce \n$75 Per Person+ Price does not include tax\, fees\, or gratuity \nBook Here Through OpenTable
URL:https://accountryclub.com/event/tequila-ocho-tasting-dinner/
ATTACH;FMTTYPE=image/jpeg:https://accountryclub.com/wp-content/uploads/2025/03/ACC0923-Tequila-Ocho-Tasting-Dinner-_-May-5th_Web_1600x900-1.jpg
END:VEVENT
END:VCALENDAR