BEGIN:VCALENDAR
VERSION:2.0
PRODID:-//Atlantic City Country Club - ECPv6.15.20//NONSGML v1.0//EN
CALSCALE:GREGORIAN
METHOD:PUBLISH
X-WR-CALNAME:Atlantic City Country Club
X-ORIGINAL-URL:https://accountryclub.com
X-WR-CALDESC:Events for Atlantic City Country Club
REFRESH-INTERVAL;VALUE=DURATION:PT1H
X-Robots-Tag:noindex
X-PUBLISHED-TTL:PT1H
BEGIN:VTIMEZONE
TZID:UTC
BEGIN:STANDARD
TZOFFSETFROM:+0000
TZOFFSETTO:+0000
TZNAME:UTC
DTSTART:20240101T000000
END:STANDARD
END:VTIMEZONE
BEGIN:VEVENT
DTSTART;TZID=UTC:20250514T120000
DTEND;TZID=UTC:20250514T170000
DTSTAMP:20260421T173255
CREATED:20250425T162514Z
LAST-MODIFIED:20250425T162514Z
UID:10000483-1747224000-1747242000@accountryclub.com
SUMMARY:Taproom is Open for Lunch From 12pm-4pm & Dinner From 5pm
DESCRIPTION:
URL:https://accountryclub.com/event/taproom-is-open-for-lunch-from-12pm-4pm-dinner-from-5pm-26/
END:VEVENT
BEGIN:VEVENT
DTSTART;TZID=UTC:20250514T160000
DTEND;TZID=UTC:20250514T180000
DTSTAMP:20260421T173255
CREATED:20250425T160517Z
LAST-MODIFIED:20250425T160517Z
UID:10000466-1747238400-1747245600@accountryclub.com
SUMMARY:Social Hour
DESCRIPTION:
URL:https://accountryclub.com/event/social-hour-4/
END:VEVENT
BEGIN:VEVENT
DTSTART;TZID=UTC:20250514T170000
DTEND;TZID=UTC:20250514T170000
DTSTAMP:20260421T173255
CREATED:20250425T133724Z
LAST-MODIFIED:20250425T133724Z
UID:10000448-1747242000-1747242000@accountryclub.com
SUMMARY:Members' Night
DESCRIPTION:1\, 2\, 3 Menu\nOrder any entrée & get a draft beer for $1\, glass of wine for $2\, or mixed cocktail for $3
URL:https://accountryclub.com/event/members-night-9/
END:VEVENT
END:VCALENDAR