BEGIN:VCALENDAR
VERSION:2.0
PRODID:-//Atlantic City Country Club - ECPv6.15.20//NONSGML v1.0//EN
CALSCALE:GREGORIAN
METHOD:PUBLISH
X-ORIGINAL-URL:https://accountryclub.com
X-WR-CALDESC:Events for Atlantic City Country Club
REFRESH-INTERVAL;VALUE=DURATION:PT1H
X-Robots-Tag:noindex
X-PUBLISHED-TTL:PT1H
BEGIN:VTIMEZONE
TZID:UTC
BEGIN:STANDARD
TZOFFSETFROM:+0000
TZOFFSETTO:+0000
TZNAME:UTC
DTSTART:20240101T000000
END:STANDARD
END:VTIMEZONE
BEGIN:VEVENT
DTSTART;TZID=UTC:20251025T120000
DTEND;TZID=UTC:20251025T120000
DTSTAMP:20260423T190630
CREATED:20250929T170350Z
LAST-MODIFIED:20251014T162757Z
UID:10000740-1761393600-1761393600@accountryclub.com
SUMMARY:Taproom is Open for Lunch 12 - 5pm & Dinner From 5pm
DESCRIPTION:
URL:https://accountryclub.com/event/taproom-is-open-for-lunch-dinner-from-12pm-23/
END:VEVENT
END:VCALENDAR