BEGIN:VCALENDAR
VERSION:2.0
PRODID:-//Atlantic City Country Club - ECPv6.15.20//NONSGML v1.0//EN
CALSCALE:GREGORIAN
METHOD:PUBLISH
X-WR-CALNAME:Atlantic City Country Club
X-ORIGINAL-URL:https://accountryclub.com
X-WR-CALDESC:Events for Atlantic City Country Club
REFRESH-INTERVAL;VALUE=DURATION:PT1H
X-Robots-Tag:noindex
X-PUBLISHED-TTL:PT1H
BEGIN:VTIMEZONE
TZID:UTC
BEGIN:STANDARD
TZOFFSETFROM:+0000
TZOFFSETTO:+0000
TZNAME:UTC
DTSTART:20240101T000000
END:STANDARD
END:VTIMEZONE
BEGIN:VEVENT
DTSTART;VALUE=DATE:20251218
DTEND;VALUE=DATE:20251220
DTSTAMP:20260423T160829
CREATED:20251126T193014Z
LAST-MODIFIED:20251126T193121Z
UID:10000793-1766016000-1766188799@accountryclub.com
SUMMARY:Social Hour 4pm-6pm
DESCRIPTION:
URL:https://accountryclub.com/event/social-hour-4pm-6pm-14-4-4/
END:VEVENT
END:VCALENDAR