BEGIN:VCALENDAR
VERSION:2.0
PRODID:-//Atlantic City Country Club - ECPv6.15.20//NONSGML v1.0//EN
CALSCALE:GREGORIAN
METHOD:PUBLISH
X-ORIGINAL-URL:https://accountryclub.com
X-WR-CALDESC:Events for Atlantic City Country Club
REFRESH-INTERVAL;VALUE=DURATION:PT1H
X-Robots-Tag:noindex
X-PUBLISHED-TTL:PT1H
BEGIN:VTIMEZONE
TZID:UTC
BEGIN:STANDARD
TZOFFSETFROM:+0000
TZOFFSETTO:+0000
TZNAME:UTC
DTSTART:20250101T000000
END:STANDARD
END:VTIMEZONE
BEGIN:VEVENT
DTSTART;TZID=UTC:20260521T180000
DTEND;TZID=UTC:20260521T180000
DTSTAMP:20260421T214030
CREATED:20260413T190643Z
LAST-MODIFIED:20260413T190643Z
UID:10000808-1779386400-1779386400@accountryclub.com
SUMMARY:Sake Dinner
DESCRIPTION:Sake Dinner\nThursday\, May 21 | 6pm \nJoin us for an unforgettable evening of education\, premium sake tasting and good times. \nMembers & Guests $60++ Per Person \n\nNon Members $75++ Per Person\nPlus Tax & Gratuity \nCALL 609-236-4400\, EXT. 3 TO RSVP \nBUY TICKETS
URL:https://accountryclub.com/event/sake-dinner-2/
ATTACH;FMTTYPE=image/jpeg:https://accountryclub.com/wp-content/uploads/2026/04/ACC1060-Sake-Dinner-_-May-21_Web_1600x900_R1.jpg
END:VEVENT
END:VCALENDAR