BEGIN:VCALENDAR
VERSION:2.0
PRODID:-//Atlantic City Country Club - ECPv6.15.20//NONSGML v1.0//EN
CALSCALE:GREGORIAN
METHOD:PUBLISH
X-ORIGINAL-URL:https://accountryclub.com
X-WR-CALDESC:Events for Atlantic City Country Club
REFRESH-INTERVAL;VALUE=DURATION:PT1H
X-Robots-Tag:noindex
X-PUBLISHED-TTL:PT1H
BEGIN:VTIMEZONE
TZID:UTC
BEGIN:STANDARD
TZOFFSETFROM:+0000
TZOFFSETTO:+0000
TZNAME:UTC
DTSTART:20240101T000000
END:STANDARD
END:VTIMEZONE
BEGIN:VEVENT
DTSTART;VALUE=DATE:20251218
DTEND;VALUE=DATE:20251220
DTSTAMP:20260420T053034
CREATED:20251126T193014Z
LAST-MODIFIED:20251126T193121Z
UID:10000793-1766016000-1766188799@accountryclub.com
SUMMARY:Social Hour 4pm-6pm
DESCRIPTION:
URL:https://accountryclub.com/event/social-hour-4pm-6pm-14-4-4/
END:VEVENT
BEGIN:VEVENT
DTSTART;VALUE=DATE:20251220
DTEND;VALUE=DATE:20251221
DTSTAMP:20260420T053034
CREATED:20251126T192517Z
LAST-MODIFIED:20251126T192517Z
UID:10000785-1766188800-1766275199@accountryclub.com
SUMMARY:Taproom is Closed
DESCRIPTION:
URL:https://accountryclub.com/event/taproom-is-closed-37-5-2-3/
END:VEVENT
BEGIN:VEVENT
DTSTART;TZID=UTC:20251220T183000
DTEND;TZID=UTC:20251220T183000
DTSTAMP:20260420T053034
CREATED:20241212T160902Z
LAST-MODIFIED:20251119T160709Z
UID:10000251-1766255400-1766255400@accountryclub.com
SUMMARY:Member Holiday Party
DESCRIPTION:YOU’RE INVITEDATLANTIC CITY COUNTRY CLUB’S \nMember Holiday Party\nSaturday\, December 20th | 6:30PM \nJoin us for a night of festive cocktails\, chef-crafted bites\, and the kind of company that makes the season shine. Come meet your fellow members at Atlantic City Country Club\, while enjoying an open bar\, hors d’oeuvres and a delicious dinner. \nBRING YOUR SPOUSE! \nPlease RSVP by Monday\, December 15thCall the Golf Shop or register on ForeTees \nThe Golf Shop will be open for all your Christmas needs. We will have staff available to wrap gifts for you and of course\, plenty of great sales going on!
URL:https://accountryclub.com/event/golf-member-holiday-party/
ATTACH;FMTTYPE=image/jpeg:https://accountryclub.com/wp-content/uploads/2024/12/ACC1024-Member-Holiday-Party_Web_1600x900.jpg
END:VEVENT
BEGIN:VEVENT
DTSTART;TZID=UTC:20251221T100000
DTEND;TZID=UTC:20251221T150000
DTSTAMP:20260420T053034
CREATED:20251126T192723Z
LAST-MODIFIED:20251126T192723Z
UID:10000789-1766311200-1766329200@accountryclub.com
SUMMARY:Sunday Brunch
DESCRIPTION:
URL:https://accountryclub.com/event/sunday-brunch-9-5-4/
END:VEVENT
BEGIN:VEVENT
DTSTART;VALUE=DATE:20251222
DTEND;VALUE=DATE:20251226
DTSTAMP:20260420T053034
CREATED:20251126T193450Z
LAST-MODIFIED:20251126T193530Z
UID:10000799-1766361600-1766707199@accountryclub.com
SUMMARY:Taproom is Closed
DESCRIPTION:
URL:https://accountryclub.com/event/taproom-is-closed-37-5-2-4-4/
END:VEVENT
BEGIN:VEVENT
DTSTART;VALUE=DATE:20251226
DTEND;VALUE=DATE:20251227
DTSTAMP:20260420T053034
CREATED:20251126T193016Z
LAST-MODIFIED:20251126T193130Z
UID:10000794-1766707200-1766793599@accountryclub.com
SUMMARY:Social Hour 4pm-6pm
DESCRIPTION:
URL:https://accountryclub.com/event/social-hour-4pm-6pm-14-4-5/
END:VEVENT
BEGIN:VEVENT
DTSTART;TZID=UTC:20251227T120000
DTEND;TZID=UTC:20251227T120000
DTSTAMP:20260420T053034
CREATED:20251126T193253Z
LAST-MODIFIED:20251126T193253Z
UID:10000796-1766836800-1766836800@accountryclub.com
SUMMARY:Taproom is Open for Lunch 12 - 5pm & Dinner From 5pm
DESCRIPTION:
URL:https://accountryclub.com/event/taproom-is-open-for-lunch-dinner-from-12pm-25-15-4-3/
END:VEVENT
BEGIN:VEVENT
DTSTART;TZID=UTC:20251228T100000
DTEND;TZID=UTC:20251228T150000
DTSTAMP:20260420T053034
CREATED:20251126T192726Z
LAST-MODIFIED:20251126T192726Z
UID:10000790-1766916000-1766934000@accountryclub.com
SUMMARY:Sunday Brunch
DESCRIPTION:
URL:https://accountryclub.com/event/sunday-brunch-9-5-5/
END:VEVENT
BEGIN:VEVENT
DTSTART;VALUE=DATE:20251229
DTEND;VALUE=DATE:20251231
DTSTAMP:20260420T053034
CREATED:20251126T193501Z
LAST-MODIFIED:20251126T193540Z
UID:10000800-1766966400-1767139199@accountryclub.com
SUMMARY:Taproom is Closed
DESCRIPTION:
URL:https://accountryclub.com/event/taproom-is-closed-37-5-2-4-5/
END:VEVENT
BEGIN:VEVENT
DTSTART;TZID=UTC:20251231T170000
DTEND;TZID=UTC:20251231T230000
DTSTAMP:20260420T053034
CREATED:20251126T190214Z
LAST-MODIFIED:20251222T194351Z
UID:10000783-1767200400-1767222000@accountryclub.com
SUMMARY:New Year's Eve Four Course Dinner
DESCRIPTION:SOLD OUT\nPLEASE JOIN US FOR ANEW YEAR’S EVEFour Course Dinner\nWednesday\, December 31 | 5PM – 11PM \nWe invite you and your family to ring in the New Year at Atlantic City Country Club.Enjoy Executive Chef Dan Harman’s special prix-fixe menu and a complimentary glass of champagne or wine. \n\nFIRST COURSE \nLOBSTER BISQUE | lobster salad\, brioche toast\nROASTED BEET SALAD | arugula\, crispy goat cheese\, shaved fennel\, citrus vin\nSALAD LYONNAISE | bacon\, crispy potatoes\, poached egg\, hazelnut dressing \n– \nSECOND COURSE \nPAN SEARED DIVER SCALLOPS | roasted corn sauce\, pesto crouton\nWAGYU BEEF SAUSAGE ROLL | yuzu honey mustard\, petite greens\nRATATOUILLE GRATIN | san marzano\, shaved parmesan \n– \nTHIRD COURSE \naccompanied by potato galette + grilled asparagus \nMAPLE GLAZED DUCK BREAST | champagne cream sauce\nSEAFOOD LINGUINE | white wine\, crushed tomatoes\nROASTED ACORN SQUASH | curried coconut sauce\n8oz FILET MIGNON | red wine sauce\nPOACHED ½ MAINE LOBSTER | drawn butter\, lemon \n*make it a surf and turf +$20 \n– \nFOURTH COURSE \nHOLIDAY BAKED ALASKA | chocolate cake\, peppermint ice cream\nCLASSIC CRÈME BRULEE | whipped cream + berries\nFLOURLESS CHOCOLATE TORTE | whipped cream + berries\nCLASSIC CHEESECAKE | berry compote
URL:https://accountryclub.com/event/2025-new-years-eve/
ATTACH;FMTTYPE=image/jpeg:https://accountryclub.com/wp-content/uploads/2025/11/ACC1021-New-Years-Eve-4-Course-Dinner_SM_1600x900.jpg
END:VEVENT
BEGIN:VEVENT
DTSTART;VALUE=DATE:20260101
DTEND;VALUE=DATE:20260405
DTSTAMP:20260420T053034
CREATED:20251215T170517Z
LAST-MODIFIED:20251215T170517Z
UID:10000801-1767225600-1775347199@accountryclub.com
SUMMARY:Taproom is Closed
DESCRIPTION:
URL:https://accountryclub.com/event/taproom-is-closed-37-5-2-4-5-2/
END:VEVENT
BEGIN:VEVENT
DTSTART;TZID=UTC:20260214T170000
DTEND;TZID=UTC:20260214T170000
DTSTAMP:20260420T053034
CREATED:20250117T145542Z
LAST-MODIFIED:20260128T150806Z
UID:10000354-1771088400-1771088400@accountryclub.com
SUMMARY:Valentine's Day Dinner
DESCRIPTION:Valentine’s Day Dinner\n3-Course Dinner\nSaturday\, February 14 | from 5PM\n \nLet Atlantic City Country Club make it a perfect date night! Enjoy a special prix fixe menu with your special someone. \nCLICK HERE TO VIEW THE MENU \n$65++ Per Person\nPlus Tax & Gratuity \nFor reservations\, call 609-236-4400
URL:https://accountryclub.com/event/valentines-day-dinner-4/
ATTACH;FMTTYPE=image/jpeg:https://accountryclub.com/wp-content/uploads/2025/01/ACC1032-Valentines-Day-Dinner-_-February-14_Web_1600x900.jpg
END:VEVENT
BEGIN:VEVENT
DTSTART;TZID=UTC:20260220T180000
DTEND;TZID=UTC:20260220T203000
DTSTAMP:20260420T053034
CREATED:20250918T195717Z
LAST-MODIFIED:20260128T151416Z
UID:10000708-1771610400-1771619400@accountryclub.com
SUMMARY:90's Murder Mystery Dinner
DESCRIPTION:A 90’s Murder Mystery Dinner\nNEW DATE: Friday\, February 20 | 6pm – 8:30pm\nWhat to wear to a 1990’s Murder Mystery\, Dude!\nDress to impress in true ’90s style. Whether you choose the grunge look with flannel shirts and Doc Martens\, channel your inner Spice Girl with platform shoes and girl power accessories\, or become a retro gamer with high-waisted jeans and video game tees\, our ’90s-themed murder mystery promises an unforgettable evening of nostalgia and intrigue. \nBUFFET DINNER & CASH BAR \n$65++ Per Person\nPlus Tax and Gratuity. \n\nGOLF & SOCIAL MEMBERS RECEIVE 10% OFFCALL (609) 236-4400 X3 TO RSVP \nCLICK HERE TO RESERVE YOUR SPOT
URL:https://accountryclub.com/event/90s-murder-mystery/
ATTACH;FMTTYPE=image/jpeg:https://accountryclub.com/wp-content/uploads/2025/09/ACC1029-90s-Murder-Mystery-Dinner-_-Jan-24_Web_1600x900_R1-1.jpg
END:VEVENT
BEGIN:VEVENT
DTSTART;TZID=UTC:20260303T173000
DTEND;TZID=UTC:20260303T193000
DTSTAMP:20260420T053034
CREATED:20260303T145150Z
LAST-MODIFIED:20260303T145236Z
UID:10000805-1772559000-1772566200@accountryclub.com
SUMMARY:Wine Walk
DESCRIPTION:WINE WALK\nTHURSDAY\, APRIL 30 | 5:30PM – 7:30PM\nLight Bites\, plus over 50 different bottles of wine to taste and purchase. \nWines presented by:Fedway Associates | Allied Beverages | Gallo WineryOpici Family Distribution | David Bowler Wines \nGOLF & SOCIAL PLUS MEMBERSRECEIVE 10% OFF TICKETSCALL 609-236-4400 X3 TO RSVP \n$30++ PER PERSONPlus Tax & Gratuity \nALL SOCIAL MEMBERS & NON-MEMBERSCAN BOOK ONLINE \nPURCHASE TICKETS ONLINE NOW
URL:https://accountryclub.com/event/wine-walk/
ATTACH;FMTTYPE=image/jpeg:https://accountryclub.com/wp-content/uploads/2026/03/ACC1044-Wine-Walk-_-April-30_Web_1600x900.jpg
END:VEVENT
BEGIN:VEVENT
DTSTART;TZID=UTC:20260312T180000
DTEND;TZID=UTC:20260312T203000
DTSTAMP:20260420T053034
CREATED:20260204T185354Z
LAST-MODIFIED:20260204T185354Z
UID:10000802-1773338400-1773347400@accountryclub.com
SUMMARY:Irish Beer Dinner
DESCRIPTION:Irish Beer Dinner\nThursday\, March 12 | 6pm\n5 Course Traditional Irish Beer Dinner with Irish Beer Pairings\n \n$65++ Per Person\nPlus Tax and Gratuity. \n\nGOLF & SOCIAL MEMBERS RECEIVE 10% OFFCALL (609) 236-4400 X3 TO RSVP \nCLICK HERE TO RESERVE YOUR SPOT
URL:https://accountryclub.com/event/irish-beer-dinner/
ATTACH;FMTTYPE=image/jpeg:https://accountryclub.com/wp-content/uploads/2026/02/ACC1035-Irish-Beer-Dinner-_-March-12_web_1600x900_R1.jpg
END:VEVENT
BEGIN:VEVENT
DTSTART;TZID=UTC:20260320T180000
DTEND;TZID=UTC:20260320T180000
DTSTAMP:20260420T053034
CREATED:20251022T155953Z
LAST-MODIFIED:20260311T134502Z
UID:10000751-1774029600-1774029600@accountryclub.com
SUMMARY:Mary Taylor Wine Dinner
DESCRIPTION:Mary Taylor Wine Dinner\nFriday\, March 20th | 6pm \nWe’re thrilled to welcome Mary Taylor herself of Mary Taylor Wines as the host of this special dinner.\n5 Course French Dinner paired with Mary Taylor French Wines. \nFirst\nChignin Benjamin River 2023\nYukon Gold ‘Vicchysoise’ | dashi\, ramps\, caviar \nSecond\nDomaine Passy Le Clou Chablis 2023\nScallop Carpaccio | white soy\, jalapeño\, apple \nThird\nCoteaux du Giennois Rouge 2022\nRoasted Halibut | sweetbread\, spinach\,beurre rouge \nFourth\nCostieres De Nimes Pierre Vidal 2024\nVenison ‘Au Poivre’ | nori\, fennel\, red fruit sauce \nDessert\nNavarra Denominacion de Origen 2019\nChocolate Pot Du Crème | kumquat\,raspberry\, meringue \n$75++ Per Person\nPlus Tax & Gratuity\n \nGOLF & SOCIAL MEMBERS RECEIVE 10% OFFCALL (609) 236-4400 X3 TO RSVP \nMAKE A RESERVATION
URL:https://accountryclub.com/event/wine-dinner-2/
ATTACH;FMTTYPE=image/jpeg:https://accountryclub.com/wp-content/uploads/2025/10/ACC1034-Mary-Taylor-Wine-Dinner-_-March-20_Web_1600x900.jpg
END:VEVENT
BEGIN:VEVENT
DTSTART;TZID=UTC:20260405T093000
DTEND;TZID=UTC:20260405T133000
DTSTAMP:20260420T053034
CREATED:20260223T155236Z
LAST-MODIFIED:20260303T211643Z
UID:10000803-1775381400-1775395800@accountryclub.com
SUMMARY:Easter Brunch
DESCRIPTION:OPEN TO THE PUBLIC \nCelebrate Easter Sunday with Atlantic City Country Club! The Easter Bunny will be making his rounds during Brunch! \nGOLF & SOCIAL PLUS MEMBERS + GUESTS RECEIVE 10% OFF\nCALL 609-236-4400 x3 to RSVP \nBRUNCH\nSEATING FROM 9:30AM – 10:30AM & 12:30PM – 1:30PM\nADULTS $60++\, CHILDREN $25++\, UNDER 3 FREE \nPlus Tax & Gratuity \nINCLUDES ONE COMPLIMENTARY MIMOSA OR BEERMOSA \nLimited Seating Available. Reservations Required. \nMAKE A RESERVATION\nVIEW MENU
URL:https://accountryclub.com/event/easter-brunch-2/
ATTACH;FMTTYPE=image/jpeg:https://accountryclub.com/wp-content/uploads/2025/03/ACC1039-Easter-Sunday-Buffet-2026_Web_1600x900.jpg
END:VEVENT
BEGIN:VEVENT
DTSTART;TZID=UTC:20260409T180000
DTEND;TZID=UTC:20260409T180000
DTSTAMP:20260420T053034
CREATED:20260225T211935Z
LAST-MODIFIED:20260225T211935Z
UID:10000804-1775757600-1775757600@accountryclub.com
SUMMARY:Passport Wine Dinner
DESCRIPTION:PASSPORT WINE DINNERTHURSDAY\, APRIL 9 | 6PM\nWine Dinner featuring 4 international courses paired with wine from its region of origin. \nGOLF & SOCIAL PLUS MEMBERSRECEIVE 10% OFF TICKETSCALL 609-236-4400 X3 TO RSVP \n$85++ PER PERSONPlus Tax & Gratuity \nALL SOCIAL MEMBERS & NON-MEMBERS CAN BOOK ONLINE \nPURCHASE TICKETS ONLINE NOW
URL:https://accountryclub.com/event/passport-wine-dinner/
ATTACH;FMTTYPE=image/jpeg:https://accountryclub.com/wp-content/uploads/2026/02/ACC1043-Passport-Wine-Dinner-_-April-9_Web_1600x900.jpg
END:VEVENT
BEGIN:VEVENT
DTSTART;TZID=UTC:20260510T093000
DTEND;TZID=UTC:20260510T133000
DTSTAMP:20260420T053034
CREATED:20260317T194002Z
LAST-MODIFIED:20260323T173634Z
UID:10000806-1778405400-1778419800@accountryclub.com
SUMMARY:Mother's Day Brunch Buffet
DESCRIPTION:OPEN TO THE PUBLIC \nCelebrate Mom at Atlantic City Country Club! \nMembers & Guests $50++ Adults\nCall 609-236-4400 X3 to make a reservation \nNon-Members\n$60++ Adults | CHILDREN $25++ | UNDER 3 FREE\nPlus Tax & Gratuity \nINCLUDES ONE COMPLIMENTARY MIMOSA OR BEERMOSA FOR EACH ADULT \nBRUNCH BUFFET\nSEATING FROM 9:30AM – 10:30AM & 12:30PM – 1:30PM \nLimited Seating Available. Reservations Required. \nMAKE A RESERVATION HERE
URL:https://accountryclub.com/event/mothers-day/
ATTACH;FMTTYPE=image/jpeg:https://accountryclub.com/wp-content/uploads/2026/03/ACC1058-Mothers-Day-_-May-10_Web_1600x900.jpg
END:VEVENT
BEGIN:VEVENT
DTSTART;TZID=UTC:20260516T173000
DTEND;TZID=UTC:20260516T173000
DTSTAMP:20260420T053034
CREATED:20260413T190350Z
LAST-MODIFIED:20260413T190350Z
UID:10000807-1778952600-1778952600@accountryclub.com
SUMMARY:Banfi Wine Dinner
DESCRIPTION:Banfi Wine Dinner\nSaturday\, May 16 | 5:30pm\nJoin us for an unforgettable evening at our first Banfi Dinner at Atlantic City Country Club. \nMembers & Guests $80++\nCall 609-236-4400 x3 to Make a Reservation \nNon-Members $95++\nPlus Tax & Gratuity \nPURCHASE TICKETS ONLINE NOW
URL:https://accountryclub.com/event/banfi-wine-dinner/
ATTACH;FMTTYPE=image/jpeg:https://accountryclub.com/wp-content/uploads/2026/04/ACC1059-Banfi-Wine-Dinner-_-May-16_Web_1600x900.jpg
END:VEVENT
BEGIN:VEVENT
DTSTART;TZID=UTC:20260521T180000
DTEND;TZID=UTC:20260521T180000
DTSTAMP:20260420T053034
CREATED:20260413T190643Z
LAST-MODIFIED:20260413T190643Z
UID:10000808-1779386400-1779386400@accountryclub.com
SUMMARY:Sake Dinner
DESCRIPTION:Sake Dinner\nThursday\, May 21 | 6pm \nJoin us for an unforgettable evening of education\, premium sake tasting and good times. \nMembers & Guests $60++ Per Person \n\nNon Members $75++ Per Person\nPlus Tax & Gratuity \nCALL 609-236-4400\, EXT. 3 TO RSVP \nBUY TICKETS
URL:https://accountryclub.com/event/sake-dinner-2/
ATTACH;FMTTYPE=image/jpeg:https://accountryclub.com/wp-content/uploads/2026/04/ACC1060-Sake-Dinner-_-May-21_Web_1600x900_R1.jpg
END:VEVENT
BEGIN:VEVENT
DTSTART;TZID=UTC:20260531T170000
DTEND;TZID=UTC:20260531T170000
DTSTAMP:20260420T053034
CREATED:20250110T211707Z
LAST-MODIFIED:20260323T164210Z
UID:10000345-1780246800-1780246800@accountryclub.com
SUMMARY:Paint & Sip
DESCRIPTION:Paint & Sip\nSunday\, May 31\nDoors Open 5pm | Painting Begins 5:30pm \nOPEN TO THE PUBLIC \nA little paint\, a little wine\, and a lot of fun. Grab a glass and unleash your inner artist. \nTicket price includes\nTwo glasses to paint and all supplies needed with instructor\nComplimentary glass of wine and charcuterie board\nCash bar and Wine by the Bottle specials available \nMembers & Guests $55++ Per Person \nPlus Tax & Gratuity \nCALL 609-236-4400\, EXT. 3 TO RSVP \nBUY TICKETS
URL:https://accountryclub.com/event/paint-sip/
ATTACH;FMTTYPE=image/jpeg:https://accountryclub.com/wp-content/uploads/2025/01/ACC1061-Paint-Sip-_-May-31_Web_1600x900.jpg
END:VEVENT
END:VCALENDAR