BEGIN:VCALENDAR
VERSION:2.0
PRODID:-//Atlantic City Country Club - ECPv6.15.20//NONSGML v1.0//EN
CALSCALE:GREGORIAN
METHOD:PUBLISH
X-ORIGINAL-URL:https://accountryclub.com
X-WR-CALDESC:Events for Atlantic City Country Club
REFRESH-INTERVAL;VALUE=DURATION:PT1H
X-Robots-Tag:noindex
X-PUBLISHED-TTL:PT1H
BEGIN:VTIMEZONE
TZID:UTC
BEGIN:STANDARD
TZOFFSETFROM:+0000
TZOFFSETTO:+0000
TZNAME:UTC
DTSTART:20250101T000000
END:STANDARD
END:VTIMEZONE
BEGIN:VEVENT
DTSTART;TZID=UTC:20260516T173000
DTEND;TZID=UTC:20260516T173000
DTSTAMP:20260423T084506
CREATED:20260413T190350Z
LAST-MODIFIED:20260422T151044Z
UID:10000807-1778952600-1778952600@accountryclub.com
SUMMARY:Banfi Wine Dinner
DESCRIPTION:Banfi Wine Dinner\nSaturday\, May 16 | 5:30pm\nJoin us for an unforgettable evening at our first Banfi Dinner at Atlantic City Country Club. \nMembers & Guests $80++\nCall 609-236-4400 x3 to Make a Reservation \nNon-Members $95++\nPlus Tax & Gratuity \nFIRST COURSE\nPincipessa Gavia Gavi\nRicotta stuffed squash blossom tempura\nfennel | artichoke salad \nSECOND COURSE\nFontanelle Chardonnay\nSemoliona gnocchetti\ncaciocavallo fonduta | tomato confit | spring herbs \nTHIRD COURSE\nBrunello di Montalcino\nRed wine braised beef cheeks\ncippolini agrodolce | soft polenta | blue cheese gremolata \nFOURTH COURSE\nBelnero\nOrange mascarpone crepe cake\norange curd | candied peel \nPURCHASE TICKETS ONLINE NOW
URL:https://accountryclub.com/event/banfi-wine-dinner/
ATTACH;FMTTYPE=image/jpeg:https://accountryclub.com/wp-content/uploads/2026/04/ACC1059-Banfi-Wine-Dinner-_-May-16_Web_1600x900.jpg
END:VEVENT
BEGIN:VEVENT
DTSTART;TZID=UTC:20260521T180000
DTEND;TZID=UTC:20260521T180000
DTSTAMP:20260423T084506
CREATED:20260413T190643Z
LAST-MODIFIED:20260413T190643Z
UID:10000808-1779386400-1779386400@accountryclub.com
SUMMARY:Sake Dinner
DESCRIPTION:Sake Dinner\nThursday\, May 21 | 6pm \nJoin us for an unforgettable evening of education\, premium sake tasting and good times. \nMembers & Guests $60++ Per Person \n\nNon Members $75++ Per Person\nPlus Tax & Gratuity \nCALL 609-236-4400\, EXT. 3 TO RSVP \nBUY TICKETS
URL:https://accountryclub.com/event/sake-dinner-2/
ATTACH;FMTTYPE=image/jpeg:https://accountryclub.com/wp-content/uploads/2026/04/ACC1060-Sake-Dinner-_-May-21_Web_1600x900_R1.jpg
END:VEVENT
BEGIN:VEVENT
DTSTART;TZID=UTC:20260531T170000
DTEND;TZID=UTC:20260531T170000
DTSTAMP:20260423T084506
CREATED:20250110T211707Z
LAST-MODIFIED:20260323T164210Z
UID:10000345-1780246800-1780246800@accountryclub.com
SUMMARY:Paint & Sip
DESCRIPTION:Paint & Sip\nSunday\, May 31\nDoors Open 5pm | Painting Begins 5:30pm \nOPEN TO THE PUBLIC \nA little paint\, a little wine\, and a lot of fun. Grab a glass and unleash your inner artist. \nTicket price includes\nTwo glasses to paint and all supplies needed with instructor\nComplimentary glass of wine and charcuterie board\nCash bar and Wine by the Bottle specials available \nMembers & Guests $55++ Per Person \nPlus Tax & Gratuity \nCALL 609-236-4400\, EXT. 3 TO RSVP \nBUY TICKETS
URL:https://accountryclub.com/event/paint-sip/
ATTACH;FMTTYPE=image/jpeg:https://accountryclub.com/wp-content/uploads/2025/01/ACC1061-Paint-Sip-_-May-31_Web_1600x900.jpg
END:VEVENT
BEGIN:VEVENT
DTSTART;TZID=UTC:20260621T000000
DTEND;TZID=UTC:20260621T000000
DTSTAMP:20260423T084506
CREATED:20260422T191815Z
LAST-MODIFIED:20260422T191835Z
UID:10000809-1782000000-1782000000@accountryclub.com
SUMMARY:Father's Day
DESCRIPTION:OPEN TO THE PUBLIC \nCelebrate Dad at Atlantic City Country Club! \nMembers & Guests $40++ Adults\nCall 609-236-4400 X3 to make a reservation \nNon-Members\n$50++ Adults | CHILDREN $25++ | UNDER 3 FREE\nPlus Tax & Gratuity \nBRUNCH BUFFET\nSEATING FROM 10AM – 2PM\nINCLUDES ONE COMPLIMENTARY MIMOSA OR BEERMOSA FOR EACH ADULT \nÀ LA CARTE DINNER FROM 4PM\nFeaturing Executive Chef Dan’s Specialty Menu \nLimited Seating Available. Reservations Required. \nMAKE A RESERVATION HERE
URL:https://accountryclub.com/event/fathers-day/
ATTACH;FMTTYPE=image/jpeg:https://accountryclub.com/wp-content/uploads/2026/04/ACC1072-Fathers-Day-_-June-21_Web_1600x900_R1.jpg
END:VEVENT
END:VCALENDAR