BEGIN:VCALENDAR
VERSION:2.0
PRODID:-//Atlantic City Country Club - ECPv6.15.20//NONSGML v1.0//EN
CALSCALE:GREGORIAN
METHOD:PUBLISH
X-WR-CALNAME:Atlantic City Country Club
X-ORIGINAL-URL:https://accountryclub.com
X-WR-CALDESC:Events for Atlantic City Country Club
REFRESH-INTERVAL;VALUE=DURATION:PT1H
X-Robots-Tag:noindex
X-PUBLISHED-TTL:PT1H
BEGIN:VTIMEZONE
TZID:UTC
BEGIN:STANDARD
TZOFFSETFROM:+0000
TZOFFSETTO:+0000
TZNAME:UTC
DTSTART:20230101T000000
END:STANDARD
END:VTIMEZONE
BEGIN:VEVENT
DTSTART;TZID=UTC:20240810T173000
DTEND;TZID=UTC:20240810T203000
DTSTAMP:20260419T213211
CREATED:20240805T155358Z
LAST-MODIFIED:20240805T155358Z
UID:10000003-1723311000-1723321800@accountryclub.com
SUMMARY:Shaun LaBoy
DESCRIPTION:Shaun LaBoy musician and entertainer
URL:https://accountryclub.com/event/shaun-laboy/
ATTACH;FMTTYPE=image/png:https://accountryclub.com/wp-content/uploads/2024/08/Shaun-LaBoy_1600x900.png
END:VEVENT
BEGIN:VEVENT
DTSTART;TZID=UTC:20240809T173000
DTEND;TZID=UTC:20240809T203000
DTSTAMP:20260419T213211
CREATED:20240805T154404Z
LAST-MODIFIED:20240805T154404Z
UID:10000002-1723224600-1723235400@accountryclub.com
SUMMARY:Doug Jennings
DESCRIPTION:Doug Jennings is a vocalist\, saxophone and keyboard performer that plays chart-topping hits from yesterday and today.
URL:https://accountryclub.com/event/doug-jennings/
ATTACH;FMTTYPE=image/png:https://accountryclub.com/wp-content/uploads/2024/08/Doug-Jennings_1600x900.png
END:VEVENT
BEGIN:VEVENT
DTSTART;TZID=UTC:20240807T173000
DTEND;TZID=UTC:20240807T203000
DTSTAMP:20260419T213211
CREATED:20240805T151303Z
LAST-MODIFIED:20240805T151303Z
UID:10000001-1723051800-1723062600@accountryclub.com
SUMMARY:Nothin' But Gina & A Little Bit of Steve
DESCRIPTION:Nothing but Gina and a Little bit of Steve are based out of South Jersey.  Music to bring back memories from Classic Rock\, Motown\, Crooners\, Dance\, Disco\, Country\, Doo Wop and Classic Pop.  We have over 3500 songs and encourage you to have your requests ready.  Music and love collide.
URL:https://accountryclub.com/event/nothin-but-gina-a-little-bit-of-steve/
ATTACH;FMTTYPE=image/png:https://accountryclub.com/wp-content/uploads/2024/08/Gina-and-Steve_1600x900.png
END:VEVENT
END:VCALENDAR